BEGIN:VCALENDAR
VERSION:2.0
PRODID:-//THE GUS BAND - ECPv6.15.13//NONSGML v1.0//EN
CALSCALE:GREGORIAN
METHOD:PUBLISH
X-WR-CALNAME:THE GUS BAND
X-ORIGINAL-URL:https://thegusband.com
X-WR-CALDESC:Events for THE GUS BAND
REFRESH-INTERVAL;VALUE=DURATION:PT1H
X-Robots-Tag:noindex
X-PUBLISHED-TTL:PT1H
BEGIN:VTIMEZONE
TZID:UTC
BEGIN:STANDARD
TZOFFSETFROM:+0000
TZOFFSETTO:+0000
TZNAME:UTC
DTSTART:20250101T000000
END:STANDARD
END:VTIMEZONE
BEGIN:VEVENT
DTSTART;VALUE=DATE:20260503
DTEND;VALUE=DATE:20260504
DTSTAMP:20260421T181227
CREATED:20260129T155604Z
LAST-MODIFIED:20260129T155604Z
UID:3041-1777766400-1777852799@thegusband.com
SUMMARY:Spring Festival – The Grand Shield
DESCRIPTION:
URL:https://thegusband.com/event/spring-festival-the-grand-shield-5
LOCATION:Birmingham Town Hall\, Victoria Square\, Birmingham\, B3 3DQ\, United Kingdom
ATTACH;FMTTYPE=image/jpeg:https://thegusband.com/wp-content/uploads/2024/04/3A2A3244.jpg
END:VEVENT
END:VCALENDAR