BEGIN:VCALENDAR
VERSION:2.0
PRODID:-//THE GUS BAND - ECPv6.15.13//NONSGML v1.0//EN
CALSCALE:GREGORIAN
METHOD:PUBLISH
X-WR-CALNAME:THE GUS BAND
X-ORIGINAL-URL:https://thegusband.com
X-WR-CALDESC:Events for THE GUS BAND
REFRESH-INTERVAL;VALUE=DURATION:PT1H
X-Robots-Tag:noindex
X-PUBLISHED-TTL:PT1H
BEGIN:VTIMEZONE
TZID:UTC
BEGIN:STANDARD
TZOFFSETFROM:+0000
TZOFFSETTO:+0000
TZNAME:UTC
DTSTART:20250101T000000
END:STANDARD
END:VTIMEZONE
BEGIN:VEVENT
DTSTART;VALUE=DATE:20260529
DTEND;VALUE=DATE:20260530
DTSTAMP:20260424T004741
CREATED:20260309T164241Z
LAST-MODIFIED:20260309T164241Z
UID:3079-1780012800-1780099199@thegusband.com
SUMMARY:Whit Friday Marches 2026
DESCRIPTION:
URL:https://thegusband.com/event/whit-friday-marches-2026
LOCATION:Saddleworth/ Tameside
ATTACH;FMTTYPE=image/jpeg:https://thegusband.com/wp-content/uploads/2023/11/PXL_20230602_2040111542-scaled.jpg
END:VEVENT
END:VCALENDAR