BEGIN:VCALENDAR
VERSION:2.0
PRODID:-//THE GUS BAND - ECPv6.15.13//NONSGML v1.0//EN
CALSCALE:GREGORIAN
METHOD:PUBLISH
X-WR-CALNAME:THE GUS BAND
X-ORIGINAL-URL:https://thegusband.com
X-WR-CALDESC:Events for THE GUS BAND
REFRESH-INTERVAL;VALUE=DURATION:PT1H
X-Robots-Tag:noindex
X-PUBLISHED-TTL:PT1H
BEGIN:VTIMEZONE
TZID:UTC
BEGIN:STANDARD
TZOFFSETFROM:+0000
TZOFFSETTO:+0000
TZNAME:UTC
DTSTART:20240101T000000
END:STANDARD
END:VTIMEZONE
BEGIN:VEVENT
DTSTART;VALUE=DATE:20250309
DTEND;VALUE=DATE:20250310
DTSTAMP:20260421T083157
CREATED:20241020T112536Z
LAST-MODIFIED:20241020T112536Z
UID:2715-1741478400-1741564799@thegusband.com
SUMMARY:Midlands Area Regional Contest
DESCRIPTION:
URL:https://thegusband.com/event/midlands-area-regional-contest
LOCATION:Bedworth Civic Hall\, High Street\, Bedworth\, CV12 8NF\, United Kingdom
CATEGORIES:Contest
END:VEVENT
END:VCALENDAR